BEGIN:VCALENDAR
VERSION:2.0
PRODID:-//SHARE International Deutschland - ECPv6.15.20//NONSGML v1.0//EN
CALSCALE:GREGORIAN
METHOD:PUBLISH
X-ORIGINAL-URL:https://www.shareinternational.de
X-WR-CALDESC:Veranstaltungen für SHARE International Deutschland
REFRESH-INTERVAL;VALUE=DURATION:PT1H
X-Robots-Tag:noindex
X-PUBLISHED-TTL:PT1H
BEGIN:VTIMEZONE
TZID:Europe/Berlin
BEGIN:DAYLIGHT
TZOFFSETFROM:+0100
TZOFFSETTO:+0200
TZNAME:CEST
DTSTART:20230326T010000
END:DAYLIGHT
BEGIN:STANDARD
TZOFFSETFROM:+0200
TZOFFSETTO:+0100
TZNAME:CET
DTSTART:20231029T010000
END:STANDARD
BEGIN:DAYLIGHT
TZOFFSETFROM:+0100
TZOFFSETTO:+0200
TZNAME:CEST
DTSTART:20240331T010000
END:DAYLIGHT
BEGIN:STANDARD
TZOFFSETFROM:+0200
TZOFFSETTO:+0100
TZNAME:CET
DTSTART:20241027T010000
END:STANDARD
BEGIN:DAYLIGHT
TZOFFSETFROM:+0100
TZOFFSETTO:+0200
TZNAME:CEST
DTSTART:20250330T010000
END:DAYLIGHT
BEGIN:STANDARD
TZOFFSETFROM:+0200
TZOFFSETTO:+0100
TZNAME:CET
DTSTART:20251026T010000
END:STANDARD
END:VTIMEZONE
BEGIN:VEVENT
DTSTART;TZID=Europe/Berlin:20240502T190000
DTEND;TZID=Europe/Berlin:20240502T210000
DTSTAMP:20260424T125945
CREATED:20240403T113136Z
LAST-MODIFIED:20240403T113136Z
UID:5186-1714676400-1714683600@www.shareinternational.de
SUMMARY:Transmissions-Meditation - Theorie und Praxis
DESCRIPTION:In unserer vielbeschäftigten Zeit suchen immer mehr Menschen nach praktikablen Wegen\, um etwas für die Verbesserung der Welt zu tun. Die Transmissions-Meditation gibt uns hier die Möglichkeit\, einen effizienten Beitrag zu leisten. Ein Dienst für die Menschheit\, der zugleich den Seelenkontakt der Meditierenden fördert.\nWorkshop\nEintritt frei;  Share Hamburg\, Info-Tel.: 040-41 36 95 21
URL:https://www.shareinternational.de/veranstaltungen/transmissions-meditation-theorie-und-praxis/
LOCATION:Raum Koppel 8\, 20099 Hamburg (St. Georg)\, Raum Koppel 8\, 20099 Hamburg (St. Georg)\, Deutschland
CATEGORIES:Film
END:VEVENT
BEGIN:VEVENT
DTSTART;TZID=Europe/Berlin:20240528T190000
DTEND;TZID=Europe/Berlin:20240528T203000
DTSTAMP:20260424T125945
CREATED:20231205T132038Z
LAST-MODIFIED:20240706T075035Z
UID:4676-1716922800-1716928200@www.shareinternational.de
SUMMARY:Mächtige Helfer für die Menschheit stehen bereit!
DESCRIPTION:Maitreya (Christus)\, die Meister der Weisheit und die Weltraumbrüder (Ufos) führen uns in eine neue friedliche\, kooperative Zivilisation \nEinführung und Video \nNähere Info und Flyer hier \n 
URL:https://www.shareinternational.de/veranstaltungen/maechtige-helfer-fuer-die-menschheit-stehen-bereit-3/
LOCATION:Wien\, Seidengasse 28\, Wien\, Wien\, 1070\, Österreich
CATEGORIES:Film,Vortrag
ORGANIZER;CN="TMM Netzwerk %C3%96sterreich":MAILTO:info-ueber-maitreya@gmx.at
END:VEVENT
END:VCALENDAR