BEGIN:VCALENDAR
VERSION:2.0
PRODID:-//SHARE International Deutschland - ECPv6.15.20//NONSGML v1.0//EN
CALSCALE:GREGORIAN
METHOD:PUBLISH
X-ORIGINAL-URL:https://www.shareinternational.de
X-WR-CALDESC:Veranstaltungen für SHARE International Deutschland
REFRESH-INTERVAL;VALUE=DURATION:PT1H
X-Robots-Tag:noindex
X-PUBLISHED-TTL:PT1H
BEGIN:VTIMEZONE
TZID:Europe/Berlin
BEGIN:DAYLIGHT
TZOFFSETFROM:+0100
TZOFFSETTO:+0200
TZNAME:CEST
DTSTART:20230326T010000
END:DAYLIGHT
BEGIN:STANDARD
TZOFFSETFROM:+0200
TZOFFSETTO:+0100
TZNAME:CET
DTSTART:20231029T010000
END:STANDARD
BEGIN:DAYLIGHT
TZOFFSETFROM:+0100
TZOFFSETTO:+0200
TZNAME:CEST
DTSTART:20240331T010000
END:DAYLIGHT
BEGIN:STANDARD
TZOFFSETFROM:+0200
TZOFFSETTO:+0100
TZNAME:CET
DTSTART:20241027T010000
END:STANDARD
BEGIN:DAYLIGHT
TZOFFSETFROM:+0100
TZOFFSETTO:+0200
TZNAME:CEST
DTSTART:20250330T010000
END:DAYLIGHT
BEGIN:STANDARD
TZOFFSETFROM:+0200
TZOFFSETTO:+0100
TZNAME:CET
DTSTART:20251026T010000
END:STANDARD
END:VTIMEZONE
BEGIN:VEVENT
DTSTART;TZID=Europe/Berlin:20240715T190000
DTEND;TZID=Europe/Berlin:20240715T190000
DTSTAMP:20260422T154051
CREATED:20240528T200257Z
LAST-MODIFIED:20240529T100657Z
UID:5351-1721070000-1721070000@www.shareinternational.de
SUMMARY:Transmissionsmeditation - Theorie und Praxis
DESCRIPTION:In unserer viel beschäftigten Zeit suchen immer mehr Menschen nach praktikablen Wegen\, um etwas für die Verbesserung der Welt zu tun. Die Transmissionsmeditation gibt uns hier die Möglichkeit\, einen effizienten Beitrag zu leisten. Ein Dienst für die Menschheit\, der zugleich den Seelenkontakt der Meditierenden fördert. \nWorkshop\, Eintritt frei\nShare Hamburg\, Info-Tel. 040 41 36 95 21
URL:https://www.shareinternational.de/veranstaltungen/transmissions-meditation-theorie-und-praxis-2/
LOCATION:Raum Koppel 8\, 20099 Hamburg (St. Georg)\, Raum Koppel 8\, 20099 Hamburg (St. Georg)\, Deutschland
CATEGORIES:Offener Workshop,Transmissionsmediation
END:VEVENT
END:VCALENDAR