BEGIN:VCALENDAR
VERSION:2.0
PRODID:-//SHARE International Deutschland - ECPv6.15.20//NONSGML v1.0//EN
CALSCALE:GREGORIAN
METHOD:PUBLISH
X-ORIGINAL-URL:https://www.shareinternational.de
X-WR-CALDESC:Veranstaltungen für SHARE International Deutschland
REFRESH-INTERVAL;VALUE=DURATION:PT1H
X-Robots-Tag:noindex
X-PUBLISHED-TTL:PT1H
BEGIN:VTIMEZONE
TZID:Europe/Berlin
BEGIN:DAYLIGHT
TZOFFSETFROM:+0100
TZOFFSETTO:+0200
TZNAME:CEST
DTSTART:20230326T010000
END:DAYLIGHT
BEGIN:STANDARD
TZOFFSETFROM:+0200
TZOFFSETTO:+0100
TZNAME:CET
DTSTART:20231029T010000
END:STANDARD
BEGIN:DAYLIGHT
TZOFFSETFROM:+0100
TZOFFSETTO:+0200
TZNAME:CEST
DTSTART:20240331T010000
END:DAYLIGHT
BEGIN:STANDARD
TZOFFSETFROM:+0200
TZOFFSETTO:+0100
TZNAME:CET
DTSTART:20241027T010000
END:STANDARD
BEGIN:DAYLIGHT
TZOFFSETFROM:+0100
TZOFFSETTO:+0200
TZNAME:CEST
DTSTART:20250330T010000
END:DAYLIGHT
BEGIN:STANDARD
TZOFFSETFROM:+0200
TZOFFSETTO:+0100
TZNAME:CET
DTSTART:20251026T010000
END:STANDARD
END:VTIMEZONE
BEGIN:VEVENT
DTSTART;TZID=Europe/Berlin:20241001T190000
DTEND;TZID=Europe/Berlin:20241001T203000
DTSTAMP:20260422T111550
CREATED:20240520T165447Z
LAST-MODIFIED:20240706T075009Z
UID:5296-1727809200-1727814600@www.shareinternational.de
SUMMARY:Kornkreise und Ufos ...
DESCRIPTION:Kornkreise und Ufos – und ihre spirituelle Bedeutung – Interview mit Benjamin Creme \nNach einer Einführung zeigen wir ein Interview mit Benjamin Creme zum Thema Ufos und Kornkreise. Das Interview ist in Englisch mit gut lesbaren deutschen Untertiteln. Benjamin Creme spricht über die Herkunft und die spirituellen Absichten der Weltraumbrüder\, über die Bedeutung der Kornkeise und Ufos auch im Zusammenhang mit dem Hervortreten des Weltlehrers Maitreya und der Meister der Weisheit. \nFlyer
URL:https://www.shareinternational.de/veranstaltungen/kornkreise-und-ufos-6/
LOCATION:Wien\, Seidengasse 28\, Wien\, Wien\, 1070\, Österreich
CATEGORIES:Film,Vortrag
ORGANIZER;CN="TMM Netzwerk %C3%96sterreich":MAILTO:info-ueber-maitreya@gmx.at
END:VEVENT
BEGIN:VEVENT
DTSTART;VALUE=DATE:20241005
DTEND;VALUE=DATE:20241007
DTSTAMP:20260422T111550
CREATED:20240918T063231Z
LAST-MODIFIED:20240920T073304Z
UID:5531-1728086400-1728259199@www.shareinternational.de
SUMMARY:Share International auf der Esoterikmesse in Hannover
DESCRIPTION:Infostand\, Vorträge und Workshops \nVortrag: Samstag\, 5. Oktober\, 16.45 Uhr\nWie können wir JETZT Gerechtigkeit und Frieden weltweit schaffen? Maitreya – die Rückkehr eines großen Lehrers und seine Botschaft des Friedens für uns alle\n(Vortragsraum 3) \nVortrag und Workshop: Sonntag\, 6. Oktober\, 15.45 Uhr\nTransmissionsmeditation: Eine Gruppenmeditation als Dienst an der Welt – um Frieden\, Gerechtigkeit und die Einheit der Menschen zu fördern\n(Vortragsraum 3) \nDie Teilnahme an unseren Vorträgen und Workshops ist kostenlos. Es wird aber ein Messeeintritt verlangt.
URL:https://www.shareinternational.de/veranstaltungen/share-international-auf-der-esoterikmesse-in-hannover/
LOCATION:Esoterikmesse Hannover\, Theodor-Heuss-Platz 1\, Congress Centrum\, Hannover\, 30175
CATEGORIES:Messe,Vortrag
END:VEVENT
END:VCALENDAR