BEGIN:VCALENDAR
VERSION:2.0
PRODID:-//SHARE International Deutschland - ECPv6.15.20//NONSGML v1.0//EN
CALSCALE:GREGORIAN
METHOD:PUBLISH
X-ORIGINAL-URL:https://www.shareinternational.de
X-WR-CALDESC:Veranstaltungen für SHARE International Deutschland
REFRESH-INTERVAL;VALUE=DURATION:PT1H
X-Robots-Tag:noindex
X-PUBLISHED-TTL:PT1H
BEGIN:VTIMEZONE
TZID:Europe/Berlin
BEGIN:DAYLIGHT
TZOFFSETFROM:+0100
TZOFFSETTO:+0200
TZNAME:CEST
DTSTART:20230326T010000
END:DAYLIGHT
BEGIN:STANDARD
TZOFFSETFROM:+0200
TZOFFSETTO:+0100
TZNAME:CET
DTSTART:20231029T010000
END:STANDARD
BEGIN:DAYLIGHT
TZOFFSETFROM:+0100
TZOFFSETTO:+0200
TZNAME:CEST
DTSTART:20240331T010000
END:DAYLIGHT
BEGIN:STANDARD
TZOFFSETFROM:+0200
TZOFFSETTO:+0100
TZNAME:CET
DTSTART:20241027T010000
END:STANDARD
BEGIN:DAYLIGHT
TZOFFSETFROM:+0100
TZOFFSETTO:+0200
TZNAME:CEST
DTSTART:20250330T010000
END:DAYLIGHT
BEGIN:STANDARD
TZOFFSETFROM:+0200
TZOFFSETTO:+0100
TZNAME:CET
DTSTART:20251026T010000
END:STANDARD
END:VTIMEZONE
BEGIN:VEVENT
DTSTART;VALUE=DATE:20241102
DTEND;VALUE=DATE:20241104
DTSTAMP:20260422T094249
CREATED:20240918T063432Z
LAST-MODIFIED:20240923T044943Z
UID:5535-1730505600-1730678399@www.shareinternational.de
SUMMARY:Share International auf der Esoterikmesse in München
DESCRIPTION:Infostand\, Vorträge und Workshops \nVortrag: Samstag\, 2. November\, 18.15 Uhr\nWie können wir JETZT Gerechtigkeit und Frieden weltweit schaffen? Maitreya – die Rückkehr eines großen Lehrers und seine Botschaft des Friedens für uns alle\n(Raum 5) \nVortrag und Workshop: Sonntag\, 3. November\, 17.15 Uhr\nTransmissionsmeditation: Eine Gruppenmeditation als Dienst an der Welt – um Frieden\, Gerechtigkeit und die Einheit der Menschen zu fördern\n(Raum 2/Turmzimmer) \nDie Teilnahme an unseren Vorträgen und Workshops ist kostenlos. Es wird aber ein Messeeintritt verlangt.
URL:https://www.shareinternational.de/veranstaltungen/share-international-auf-der-esoterikmesse-in-muenchen/
LOCATION:Löwenbräukeller München\, Nymphenburger Straße 2\, München\, Deutschland
END:VEVENT
BEGIN:VEVENT
DTSTART;TZID=Europe/Berlin:20241126T190000
DTEND;TZID=Europe/Berlin:20241126T203000
DTSTAMP:20260422T094249
CREATED:20240520T165755Z
LAST-MODIFIED:20240528T122209Z
UID:5300-1732647600-1732653000@www.shareinternational.de
SUMMARY:Mächtige Helfer für die Menschheit stehen bereit!
DESCRIPTION:Maitreya (Christus)\, die Meister der Weisheit und die Raumbrüder (UFO) führen uns in eine neue friedliche\, kooperative Zivilisation.\nEinführung & Videovortrag\nFlyer\n\n 
URL:https://www.shareinternational.de/veranstaltungen/maechtige-helfer-fuer-die-menschheit-stehen-bereit-4/
LOCATION:Wien\, Seidengasse 28\, Wien\, Wien\, 1070\, Österreich
CATEGORIES:Film,Vortrag
ORGANIZER;CN="TMM Netzwerk %C3%96sterreich":MAILTO:info-ueber-maitreya@gmx.at
END:VEVENT
BEGIN:VEVENT
DTSTART;TZID=Europe/Berlin:20241130T120000
DTEND;TZID=Europe/Berlin:20241201T180000
DTSTAMP:20260422T094249
CREATED:20241030T071010Z
LAST-MODIFIED:20241103T152250Z
UID:5620-1732968000-1733076000@www.shareinternational.de
SUMMARY:Vision einer gerechten Welt - Multimediale Ausstellung
DESCRIPTION:Die Zeit des Großen Wandels – und wir alle gestalten ihn mit\nKönnen wir uns eine Welt vorstellen\, in der wirklich Frieden herrscht? In der niemand mehr an Hunger leidet\, in der Ungerechtigkeit und Gewalt keinen Platz mehr haben – und in der alle Menschen ihre Talente und Kreativität entfalten können? Die Menschheit steht an einem Wendepunkt.Wir können nicht mehr so weitermachen wie bisher: politisch\, ökologisch\, wirtschaftlich und spirituell. Wir sind am Beginn der Zeit des großenWandels. Einer Zeit\, in der Frieden\, Gerechtigkeit und Umweltschutz oberste Priorität haben und Tolerenz und gerechtes Verteilen der Weltressourcen selbstverständlich sein werden. Utopie? -Wir meinen\, es gibt deutliche Hinweise für diese Entwicklung. Die Stimme des Volkes – eine neue Kraft in der Welt \n\nS. O. P. – Save Our Planet – die ökologische Kehrtwende\nDas Ende von Armut und Hunger in einer Welt des  Überflusses\nDie Rückkehr des Weltlehrers Maitreya\nDie Lehren der Zeitlosen Weisheit\nDie Kunst der Selbstverwirklichung\nTransmissionsmeditation – ein aktiver Beitrag zum Frieden\nKornkreise\, Ufos\, weltweite Wunder und deren Bedeutung\n\n30. November 2024 12:00 – 19:00 Uhr\n01. Dezember 2024 12:00 – 18:00 Uhr \nEintritt frei;  Share Hamburg\, Info-Tel.: 040-41 36 95 21 \nFlyer
URL:https://www.shareinternational.de/veranstaltungen/vision-einer-gerechten-welt-multimediale-ausstellung/
LOCATION:Raum Koppel 8\, 20099 Hamburg (St. Georg)\, Raum Koppel 8\, 20099 Hamburg (St. Georg)\, Deutschland
CATEGORIES:Ausstellung,Film,Transmissionsmediation
END:VEVENT
END:VCALENDAR